View In:
ArcGIS JavaScript
ArcGIS Online Map Viewer
ArcGIS Earth
ArcMap
ArcGIS Pro
View Footprint In:
ArcGIS Online Map Viewer
Service Description: This is the EnerGov General Basemap that shows the key features of the City of Lathrop's layout. This service contains the: City Limits, Select Points of Interest (POS), Schools, Fire Stations, Police Stations, Parcels, Roads & Highways, Parks, and Lathrop City Districts.
This service is intended for reference purposes only and represents a snapshot of the City's data. This service is cached and should be rebuilt at least once (1) per month by the City of Lathrop GIS team.
Map Name: GeneralBasemapV1
Legend
All Layers and Tables
Layers:
Description: This is the EnerGov General Basemap that shows the key features of the City of Lathrop's layout. This service contains the: City Limits, Select Points of Interest (POS), Schools, Fire Stations, Police Stations, Parcels, Roads & Highways, Parks, and Lathrop City Districts.
This service is intended for reference purposes only and represents a snapshot of the City's data. This service is cached and should be rebuilt at least once (1) per month by the City of Lathrop GIS team.
Service Item Id: 4b970a8cc5ae43bc8d272e8d56de04cc
Copyright Text: City of Lathrop; Geographic Technologies Group
Spatial Reference:
102643
(2227)
Single Fused Map Cache: true
Tile Info:
- Height: 256
- Width: 256
- DPI: 96
-
Levels of Detail: 24
-
Level ID: 0
[ Start Tile, End Tile ]
- Resolution: 956420.9010381275
- Scale: 1.1017990815940862E9
-
Level ID: 1
[ Start Tile, End Tile ]
- Resolution: 478210.45051906374
- Scale: 5.508995407970431E8
-
Level ID: 2
[ Start Tile, End Tile ]
- Resolution: 239105.22525953187
- Scale: 2.7544977039852154E8
-
Level ID: 3
[ Start Tile, End Tile ]
- Resolution: 119552.61262976594
- Scale: 1.3772488519926077E8
-
Level ID: 4
[ Start Tile, End Tile ]
- Resolution: 59776.30631488297
- Scale: 6.886244259963039E7
-
Level ID: 5
[ Start Tile, End Tile ]
- Resolution: 29888.153157441484
- Scale: 3.443122129981519E7
-
Level ID: 6
[ Start Tile, End Tile ]
- Resolution: 14944.076578720742
- Scale: 1.7215610649907596E7
-
Level ID: 7
[ Start Tile, End Tile ]
- Resolution: 7472.038289360371
- Scale: 8607805.324953798
-
Level ID: 8
[ Start Tile, End Tile ]
- Resolution: 3736.0191446801855
- Scale: 4303902.662476899
-
Level ID: 9
[ Start Tile, End Tile ]
- Resolution: 1868.0095723400927
- Scale: 2151951.3312384496
-
Level ID: 10
[ Start Tile, End Tile ]
- Resolution: 934.0047861700464
- Scale: 1075975.6656192248
-
Level ID: 11
[ Start Tile, End Tile ]
- Resolution: 467.0023930850232
- Scale: 537987.8328096124
-
Level ID: 12
[ Start Tile, End Tile ]
- Resolution: 233.5011965425116
- Scale: 268993.9164048062
-
Level ID: 13
[ Start Tile, End Tile ]
- Resolution: 116.7505982712558
- Scale: 134496.9582024031
-
Level ID: 14
[ Start Tile, End Tile ]
- Resolution: 58.3752991356279
- Scale: 67248.47910120155
-
Level ID: 15
[ Start Tile, End Tile ]
- Resolution: 29.18764956781395
- Scale: 33624.239550600774
-
Level ID: 16
[ Start Tile, End Tile ]
- Resolution: 14.593824783906975
- Scale: 16812.119775300387
-
Level ID: 17
[ Start Tile, End Tile ]
- Resolution: 7.296912391953487
- Scale: 8406.059887650194
-
Level ID: 18
[ Start Tile, End Tile ]
- Resolution: 3.6484561959767436
- Scale: 4203.029943825097
-
Level ID: 19
[ Start Tile, End Tile ]
- Resolution: 1.8242280979883718
- Scale: 2101.5149719125484
-
Level ID: 20
[ Start Tile, End Tile ]
- Resolution: 0.9121140489941859
- Scale: 1050.7574859562742
-
Level ID: 21
[ Start Tile, End Tile ]
- Resolution: 0.45605702449709296
- Scale: 525.3787429781371
-
Level ID: 22
[ Start Tile, End Tile ]
- Resolution: 0.22802851224854648
- Scale: 262.68937148906855
-
Level ID: 23
[ Start Tile, End Tile ]
- Resolution: 0.11401425612427324
- Scale: 131.34468574453427
- Format: MIXED
- Compression Quality: 75.0
- Origin: X: -1.1586020866621366E8
Y: 1.1150148230421728E8
- Spatial Reference: 102643
(2227)
Storage Info:
- Storage Format: esriMapCacheStorageModeCompactV2
- Packet Size: 128
Initial Extent:
XMin: 6296352.473380395
YMin: 2094270.9209824826
XMax: 6358281.417358664
YMax: 2139501.4023593916
Spatial Reference: 102643
(2227)
Full Extent:
XMin: 6249510.976140007
YMin: 1999378.6836463362
XMax: 6440062.196086675
YMax: 2296299.8460364193
Spatial Reference: 102643
(2227)
Units: esriFeet
Supported Image Format Types: PNG32,PNG24,PNG,JPG,DIB,TIFF,EMF,PS,PDF,GIF,SVG,SVGZ,BMP
Document Info:
Title: Map
Author:
Comments:
Subject:
Category:
Keywords: EnerGov,Ener gov,City of Lathrop,Lathrop,CA,California,Basemap,Gneral,Government,Local Government,Code Cases,Code,Planning
AntialiasingMode: Best
TextAntialiasingMode: Force
Supports Dynamic Layers: false
Resampling: false
MaxRecordCount: 2000
MaxImageHeight: 4096
MaxImageWidth: 4096
Supported Query Formats: JSON, geoJSON, PBF
Supports Query Data Elements: true
Min Scale: 537987.8328096124
Max Scale: 16812.119775300387
Min LOD: 11
Max LOD: 16
Supports Datum Transformation: true
Child Resources:
Info
Supported Operations:
Export Map
Identify
QueryLegends
QueryDomains
Find
Return Updates