{
 "currentVersion": 10.91,
 "cimVersion": "2.9.0",
 "serviceDescription": "This is the EnerGov General Basemap that shows the key features of the City of Lathrop's layout. This service contains the: City Limits, Select Points of Interest (POS), Schools, Fire Stations, Police Stations, Parcels, Roads & Highways, Parks, and Lathrop City Districts.\n\nThis service is intended for reference purposes only and represents a snapshot of the City's data. This service is cached and should be rebuilt at least once (1) per month by the City of Lathrop GIS team. ",
 "mapName": "GeneralBasemapV1",
 "description": "This is the EnerGov General Basemap that shows the key features of the City of Lathrop's layout. This service contains the: City Limits, Select Points of Interest (POS), Schools, Fire Stations, Police Stations, Parcels, Roads & Highways, Parks, and Lathrop City Districts.\n\nThis service is intended for reference purposes only and represents a snapshot of the City's data. This service is cached and should be rebuilt at least once (1) per month by the City of Lathrop GIS team. ",
 "copyrightText": "City of Lathrop; Geographic Technologies Group",
 "supportsDynamicLayers": false,
 "layers": [
  {
   "id": 0,
   "name": "City Limit",
   "parentLayerId": -1,
   "defaultVisibility": true,
   "subLayerIds": null,
   "minScale": 0,
   "maxScale": 0,
   "type": "Feature Layer",
   "geometryType": "esriGeometryPolygon",
   "supportsDynamicLegends": true
  },
  {
   "id": 1,
   "name": "Points Of Interest",
   "parentLayerId": -1,
   "defaultVisibility": true,
   "subLayerIds": null,
   "minScale": 15000,
   "maxScale": 0,
   "type": "Feature Layer",
   "geometryType": "esriGeometryPoint",
   "supportsDynamicLegends": true
  },
  {
   "id": 2,
   "name": "Schools",
   "parentLayerId": -1,
   "defaultVisibility": true,
   "subLayerIds": null,
   "minScale": 15000,
   "maxScale": 0,
   "type": "Feature Layer",
   "geometryType": "esriGeometryPoint",
   "supportsDynamicLegends": true
  },
  {
   "id": 3,
   "name": "Fire Stations",
   "parentLayerId": -1,
   "defaultVisibility": true,
   "subLayerIds": null,
   "minScale": 15000,
   "maxScale": 0,
   "type": "Feature Layer",
   "geometryType": "esriGeometryPoint",
   "supportsDynamicLegends": true
  },
  {
   "id": 4,
   "name": "Police Stations",
   "parentLayerId": -1,
   "defaultVisibility": true,
   "subLayerIds": null,
   "minScale": 15000,
   "maxScale": 0,
   "type": "Feature Layer",
   "geometryType": "esriGeometryPoint",
   "supportsDynamicLegends": true
  },
  {
   "id": 5,
   "name": "Parcels",
   "parentLayerId": -1,
   "defaultVisibility": true,
   "subLayerIds": null,
   "minScale": 65000,
   "maxScale": 0,
   "type": "Feature Layer",
   "geometryType": "esriGeometryPolygon",
   "supportsDynamicLegends": true
  },
  {
   "id": 6,
   "name": "Parks",
   "parentLayerId": -1,
   "defaultVisibility": true,
   "subLayerIds": null,
   "minScale": 0,
   "maxScale": 0,
   "type": "Feature Layer",
   "geometryType": "esriGeometryPolygon",
   "supportsDynamicLegends": true
  },
  {
   "id": 7,
   "name": "Roads and Highways",
   "parentLayerId": -1,
   "defaultVisibility": true,
   "subLayerIds": null,
   "minScale": 0,
   "maxScale": 0,
   "type": "Feature Layer",
   "geometryType": "esriGeometryPolyline",
   "supportsDynamicLegends": true
  },
  {
   "id": 8,
   "name": "City Districts",
   "parentLayerId": -1,
   "defaultVisibility": true,
   "subLayerIds": null,
   "minScale": 0,
   "maxScale": 0,
   "type": "Feature Layer",
   "geometryType": "esriGeometryPolygon",
   "supportsDynamicLegends": true
  }
 ],
 "tables": [],
 "spatialReference": {
  "wkid": 102643,
  "latestWkid": 2227,
  "xyTolerance": 0.003280833333333333,
  "zTolerance": 0.001,
  "mTolerance": 0.001,
  "falseX": -115860600,
  "falseY": -93269500,
  "xyUnits": 3048.0060960121928,
  "falseZ": -100000,
  "zUnits": 10000,
  "falseM": -100000,
  "mUnits": 10000
 },
 "singleFusedMapCache": true,
 "tileInfo": {
  "rows": 256,
  "cols": 256,
  "dpi": 96,
  "format": "MIXED",
  "compressionQuality": 75,
  "origin": {
   "x": -1.1586020866621366E8,
   "y": 1.1150148230421728E8
  },
  "spatialReference": {
   "wkid": 102643,
   "latestWkid": 2227,
   "xyTolerance": 0.003280833333333333,
   "zTolerance": 0.001,
   "mTolerance": 0.001,
   "falseX": -115860600,
   "falseY": -93269500,
   "xyUnits": 3048.0060960121928,
   "falseZ": -100000,
   "zUnits": 10000,
   "falseM": -100000,
   "mUnits": 10000
  },
  "lods": [
   {
    "level": 0,
    "resolution": 956420.9010381275,
    "scale": 1.1017990815940862E9
   },
   {
    "level": 1,
    "resolution": 478210.45051906374,
    "scale": 5.508995407970431E8
   },
   {
    "level": 2,
    "resolution": 239105.22525953187,
    "scale": 2.7544977039852154E8
   },
   {
    "level": 3,
    "resolution": 119552.61262976594,
    "scale": 1.3772488519926077E8
   },
   {
    "level": 4,
    "resolution": 59776.30631488297,
    "scale": 6.886244259963039E7
   },
   {
    "level": 5,
    "resolution": 29888.153157441484,
    "scale": 3.443122129981519E7
   },
   {
    "level": 6,
    "resolution": 14944.076578720742,
    "scale": 1.7215610649907596E7
   },
   {
    "level": 7,
    "resolution": 7472.038289360371,
    "scale": 8607805.324953798
   },
   {
    "level": 8,
    "resolution": 3736.0191446801855,
    "scale": 4303902.662476899
   },
   {
    "level": 9,
    "resolution": 1868.0095723400927,
    "scale": 2151951.3312384496
   },
   {
    "level": 10,
    "resolution": 934.0047861700464,
    "scale": 1075975.6656192248
   },
   {
    "level": 11,
    "resolution": 467.0023930850232,
    "scale": 537987.8328096124
   },
   {
    "level": 12,
    "resolution": 233.5011965425116,
    "scale": 268993.9164048062
   },
   {
    "level": 13,
    "resolution": 116.7505982712558,
    "scale": 134496.9582024031
   },
   {
    "level": 14,
    "resolution": 58.3752991356279,
    "scale": 67248.47910120155
   },
   {
    "level": 15,
    "resolution": 29.18764956781395,
    "scale": 33624.239550600774
   },
   {
    "level": 16,
    "resolution": 14.593824783906975,
    "scale": 16812.119775300387
   },
   {
    "level": 17,
    "resolution": 7.296912391953487,
    "scale": 8406.059887650194
   },
   {
    "level": 18,
    "resolution": 3.6484561959767436,
    "scale": 4203.029943825097
   },
   {
    "level": 19,
    "resolution": 1.8242280979883718,
    "scale": 2101.5149719125484
   },
   {
    "level": 20,
    "resolution": 0.9121140489941859,
    "scale": 1050.7574859562742
   },
   {
    "level": 21,
    "resolution": 0.45605702449709296,
    "scale": 525.3787429781371
   },
   {
    "level": 22,
    "resolution": 0.22802851224854648,
    "scale": 262.68937148906855
   },
   {
    "level": 23,
    "resolution": 0.11401425612427324,
    "scale": 131.34468574453427
   }
  ]
 },
 "storageInfo": {
  "storageFormat": "esriMapCacheStorageModeCompactV2",
  "packetSize": 128
 },
 "initialExtent": {
  "xmin": 6296352.473380395,
  "ymin": 2094270.9209824826,
  "xmax": 6358281.417358664,
  "ymax": 2139501.4023593916,
  "spatialReference": {
   "wkid": 102643,
   "latestWkid": 2227,
   "xyTolerance": 0.003280833333333333,
   "zTolerance": 0.001,
   "mTolerance": 0.001,
   "falseX": -115860600,
   "falseY": -93269500,
   "xyUnits": 3048.0060960121928,
   "falseZ": -100000,
   "zUnits": 10000,
   "falseM": -100000,
   "mUnits": 10000
  }
 },
 "fullExtent": {
  "xmin": 6249510.976140007,
  "ymin": 1999378.6836463362,
  "xmax": 6440062.196086675,
  "ymax": 2296299.8460364193,
  "spatialReference": {
   "wkid": 102643,
   "latestWkid": 2227,
   "xyTolerance": 0.003280833333333333,
   "zTolerance": 0.001,
   "mTolerance": 0.001,
   "falseX": -115860600,
   "falseY": -93269500,
   "xyUnits": 3048.0060960121928,
   "falseZ": -100000,
   "zUnits": 10000,
   "falseM": -100000,
   "mUnits": 10000
  }
 },
 "datesInUnknownTimezone": false,
 "minScale": 537987.8328096124,
 "maxScale": 16812.119775300387,
 "minLOD": 11,
 "maxLOD": 16,
 "units": "esriFeet",
 "supportedImageFormatTypes": "PNG32,PNG24,PNG,JPG,DIB,TIFF,EMF,PS,PDF,GIF,SVG,SVGZ,BMP",
 "documentInfo": {
  "Title": "Map",
  "Author": "",
  "Comments": "",
  "Subject": "",
  "Category": "",
  "AntialiasingMode": "Best",
  "TextAntialiasingMode": "Force",
  "Version": "2.9.0",
  "Keywords": "EnerGov,Ener gov,City of Lathrop,Lathrop,CA,California,Basemap,Gneral,Government,Local Government,Code Cases,Code,Planning"
 },
 "supportsQueryDomains": true,
 "capabilities": "Map,Query,Data",
 "supportedQueryFormats": "JSON, geoJSON, PBF",
 "hasVersionedData": true,
 "exportTilesAllowed": false,
 "referenceScale": 0.0,
 "datumTransformations": [
  {
   "geoTransforms": [
    {
     "wkid": 108190,
     "latestWkid": 108190,
     "transformForward": false,
     "name": "WGS_1984_(ITRF00)_To_NAD_1983"
    }
   ]
  }
 ],
 "supportsDatumTransformation": true,
 "floorAwareMapProperties": {
  "defaultFloorFilterSettings": {
   "isEnabled": false
  }
 },
 "archivingInfo": {
  "supportsHistoricMoment": false
 },
 "supportsClipping": true,
 "supportsSpatialFilter": true,
 "supportsTimeRelation": true,
 "supportsQueryDataElements": true,
 "maxRecordCount": 2000,
 "maxImageHeight": 4096,
 "maxImageWidth": 4096,
 "supportedExtensions": "",
 "resampling": false,
 "serviceItemId": "4b970a8cc5ae43bc8d272e8d56de04cc"
}
