{
 "currentVersion": 10.91,
 "serviceDescription": "This is the EnerGov General Basemap that shows the key features of the City of Lathrop's layout. This service contains the: City Limits, Select Points of Interest (POS), Schools, Fire Stations, Police Stations, Parcels, Roads & Highways, Parks, and Lathrop City Districts.\n\nThis service is intended for reference purposes only and represents a snapshot of the City's data. This service is cached and should be rebuilt at least once (1) per month by the City of Lathrop GIS team. ",
 "mapName": "Layers",
 "description": "",
 "copyrightText": "City of Lathrop; Geographic Technologies Group",
 "supportsDynamicLayers": false,
 "layers": [],
 "tables": [],
 "spatialReference": {
  "wkid": 102643,
  "latestWkid": 2227
 },
 "singleFusedMapCache": true,
 "tileInfo": {
  "rows": 256,
  "cols": 256,
  "dpi": 96,
  "format": "MIXED",
  "compressionQuality": 75,
  "origin": {
   "x": -115860600,
   "y": 151575000
  },
  "spatialReference": {
   "wkid": 102643,
   "latestWkid": 2227
  },
  "lods": [
   {
    "level": 0,
    "resolution": 1003.1086011953124,
    "scale": 1155581.108577
   },
   {
    "level": 1,
    "resolution": 501.55430059809026,
    "scale": 577790.554289
   },
   {
    "level": 2,
    "resolution": 250.7771502986111,
    "scale": 288895.277144
   },
   {
    "level": 3,
    "resolution": 125.38857514930555,
    "scale": 144447.638572
   },
   {
    "level": 4,
    "resolution": 62.694287574652776,
    "scale": 72223.819286
   },
   {
    "level": 5,
    "resolution": 47.020715680555554,
    "scale": 54167.864464
   },
   {
    "level": 6,
    "resolution": 31.347143787326388,
    "scale": 36111.909643
   },
   {
    "level": 7,
    "resolution": 23.510357840277777,
    "scale": 27083.932232
   },
   {
    "level": 8,
    "resolution": 15.673571894097222,
    "scale": 18055.954822
   },
   {
    "level": 9,
    "resolution": 11.755178921006944,
    "scale": 13541.966117
   },
   {
    "level": 10,
    "resolution": 7.836785947048611,
    "scale": 9027.977411
   },
   {
    "level": 11,
    "resolution": 5.877589460069444,
    "scale": 6770.983058
   },
   {
    "level": 12,
    "resolution": 3.9183929730902776,
    "scale": 4513.988705
   },
   {
    "level": 13,
    "resolution": 2.938794730034722,
    "scale": 3385.491529
   },
   {
    "level": 14,
    "resolution": 1.9591964869791667,
    "scale": 2256.994353
   },
   {
    "level": 15,
    "resolution": 1.469397365017361,
    "scale": 1692.7457645
   },
   {
    "level": 16,
    "resolution": 0.9795982430555555,
    "scale": 1128.497176
   },
   {
    "level": 17,
    "resolution": 0.7346986822916667,
    "scale": 846.372882
   },
   {
    "level": 18,
    "resolution": 0.48979912152777777,
    "scale": 564.248588
   }
  ]
 },
 "initialExtent": {
  "xmin": 6286825.912945782,
  "ymin": 2114587.106808484,
  "xmax": 6357659.246279116,
  "ymax": 2148475.995697373,
  "spatialReference": {
   "wkid": 102643,
   "latestWkid": 2227
  }
 },
 "fullExtent": {
  "xmin": "NaN",
  "ymin": "NaN",
  "xmax": "NaN",
  "ymax": "NaN",
  "spatialReference": {
   "wkid": 102643,
   "latestWkid": 2227
  }
 },
 "minScale": 1155581.108577,
 "maxScale": 564.248588,
 "minLOD": 0,
 "maxLOD": 18,
 "units": "esriFeet",
 "supportedImageFormatTypes": "PNG32,PNG24,PNG,JPG,DIB,TIFF,EMF,PS,PDF,GIF,SVG,SVGZ,BMP",
 "documentInfo": {
  "Title": "",
  "Author": "",
  "Comments": "This mxd is for EnerGov use. ",
  "Subject": "This is for EnerGov.",
  "Category": "",
  "AntialiasingMode": "Best",
  "TextAntialiasingMode": "Force",
  "Keywords": "EnerGov,Ener gov,City of Lathrop,Lathrop,CA,California,Basemap,General,Government,Local Government,Code Cases,Code,Planning"
 },
 "capabilities": "Map,Query,Data",
 "supportedQueryFormats": "JSON, geoJSON",
 "exportTilesAllowed": false,
 "referenceScale": 0,
 "supportsDatumTransformation": true,
 "maxRecordCount": 1000,
 "maxImageHeight": 4096,
 "maxImageWidth": 4096,
 "supportedExtensions": "",
 "resampling": false,
 "serviceItemId": "20916ac7c31249319bd422be27806106"
}
