{
 "currentVersion": 10.91,
 "serviceDescription": "The original dataset was collected and managed by the USGS and USDA's joint National Agriculutre Imagery Program (NAIP) and was colected in November of 2020. The dataset was clipped around the geometry of the City of Lathrop's quarter-mile buffer. The data was reprojected from a UTM system into state plane. \n\nThe data is a natural color representation of NAIP 2020 aerial imagery. Band1=R, Band2=G, Band3=B.\n\nInfo: https://www.usgs.gov/centers/eros/science/usgs-eros-archive-aerial-photography-national-agriculture-imagery-program-naip?qt-science_center_objects=0#qt-science_center_objects\n\n\nSource: https://map.dfg.ca.gov/arcgis/rest/services/Base_Remote_Sensing/NAIP_2020/ImageServer",
 "mapName": "Layers",
 "description": "",
 "copyrightText": "City of Lathrop; Geographic Technologies Group.",
 "supportsDynamicLayers": false,
 "layers": [],
 "tables": [],
 "spatialReference": {
  "wkid": 102643,
  "latestWkid": 2227
 },
 "singleFusedMapCache": true,
 "tileInfo": {
  "rows": 256,
  "cols": 256,
  "dpi": 96,
  "format": "MIXED",
  "compressionQuality": 75,
  "origin": {
   "x": -115860600,
   "y": 151575000
  },
  "spatialReference": {
   "wkid": 102643,
   "latestWkid": 2227
  },
  "lods": [
   {
    "level": 0,
    "resolution": 1003.1086011953124,
    "scale": 1155581.108577
   },
   {
    "level": 1,
    "resolution": 501.55430059809026,
    "scale": 577790.554289
   },
   {
    "level": 2,
    "resolution": 250.7771502986111,
    "scale": 288895.277144
   },
   {
    "level": 3,
    "resolution": 125.38857514930555,
    "scale": 144447.638572
   },
   {
    "level": 4,
    "resolution": 62.694287574652776,
    "scale": 72223.819286
   },
   {
    "level": 5,
    "resolution": 47.020715680555554,
    "scale": 54167.864464
   },
   {
    "level": 6,
    "resolution": 31.347143787326388,
    "scale": 36111.909643
   },
   {
    "level": 7,
    "resolution": 23.510357840277777,
    "scale": 27083.932232
   },
   {
    "level": 8,
    "resolution": 15.673571894097222,
    "scale": 18055.954822
   },
   {
    "level": 9,
    "resolution": 11.755178921006944,
    "scale": 13541.966117
   },
   {
    "level": 10,
    "resolution": 7.836785947048611,
    "scale": 9027.977411
   },
   {
    "level": 11,
    "resolution": 5.877589460069444,
    "scale": 6770.983058
   },
   {
    "level": 12,
    "resolution": 3.9183929730902776,
    "scale": 4513.988705
   },
   {
    "level": 13,
    "resolution": 2.938794730034722,
    "scale": 3385.491529
   },
   {
    "level": 14,
    "resolution": 1.9591964869791667,
    "scale": 2256.994353
   },
   {
    "level": 15,
    "resolution": 1.469397365017361,
    "scale": 1692.7457645
   },
   {
    "level": 16,
    "resolution": 0.9795982430555555,
    "scale": 1128.497176
   },
   {
    "level": 17,
    "resolution": 0.7346986822916667,
    "scale": 846.372882
   },
   {
    "level": 18,
    "resolution": 0.48979912152777777,
    "scale": 564.248588
   }
  ]
 },
 "initialExtent": {
  "xmin": 6098850.056737956,
  "ymin": 1961448.9110255954,
  "xmax": 6591434.30290737,
  "ymax": 2322677.3582164994,
  "spatialReference": {
   "wkid": 102643,
   "latestWkid": 2227
  }
 },
 "fullExtent": {
  "xmin": "NaN",
  "ymin": "NaN",
  "xmax": "NaN",
  "ymax": "NaN",
  "spatialReference": {
   "wkid": 102643,
   "latestWkid": 2227
  }
 },
 "minScale": 1155581.108577,
 "maxScale": 846.372882,
 "minLOD": 0,
 "maxLOD": 18,
 "units": "esriFeet",
 "supportedImageFormatTypes": "PNG32,PNG24,PNG,JPG,DIB,TIFF,EMF,PS,PDF,GIF,SVG,SVGZ,BMP",
 "documentInfo": {
  "Title": "",
  "Author": "",
  "Comments": "",
  "Subject": "",
  "Category": "",
  "AntialiasingMode": "None",
  "TextAntialiasingMode": "Force",
  "Keywords": "Aerials,Imagery,NAIP,USDA,USGS,Images,Land Cover,EnerGov,Ener Gov,Code Cases,Basemap,Reference,Code,Government,Lathrop,CA,California"
 },
 "capabilities": "Map,Query,Data",
 "supportedQueryFormats": "JSON, geoJSON",
 "exportTilesAllowed": false,
 "referenceScale": 0,
 "supportsDatumTransformation": true,
 "maxRecordCount": 1000,
 "maxImageHeight": 4096,
 "maxImageWidth": 4096,
 "supportedExtensions": "",
 "resampling": false,
 "serviceItemId": "511d7799eacd42dc9b4abea852b20bdc"
}
